BEGIN:VCALENDAR
VERSION:2.0
PRODID:-//PRESTELIGENCE//v1.15.0.37344//EN
METHOD:REQUEST
BEGIN:VEVENT
UID:AssignmentId49956@presteligence.com
SEQUENCE:2
DTSTAMP:20260424T140921
ORGANIZER;CN=TUSCARAWAS CENTRAL CATHOLIC:MAILTO:mng@presteligence.com
DTSTART:20090911T193000
DTEND:20090911T193000
LOCATION:
SUMMARY:TUSCARAWAS CENTRAL CATHOLIC vs Marion Catholic Fighting Irish
DESCRIPTION:
STATUS:
END:VEVENT
END:VCALENDAR
