BEGIN:VCALENDAR
VERSION:2.0
PRODID:-//PRESTELIGENCE//v1.15.0.37344//EN
METHOD:REQUEST
BEGIN:VEVENT
UID:AssignmentId49957@presteligence.com
SEQUENCE:2
DTSTAMP:20260424T140921
ORGANIZER;CN=TUSCARAWAS CENTRAL CATHOLIC:MAILTO:mng@presteligence.com
DTSTART:20090918T190000
DTEND:20090918T190000
LOCATION:
SUMMARY:TUSCARAWAS CENTRAL CATHOLIC vs Newcomerstown Trojans
DESCRIPTION:
STATUS:
END:VEVENT
END:VCALENDAR
