BEGIN:VCALENDAR
VERSION:2.0
PRODID:-//PRESTELIGENCE//v1.15.0.37344//EN
METHOD:REQUEST
BEGIN:VEVENT
UID:AssignmentId49958@presteligence.com
SEQUENCE:2
DTSTAMP:20260424T140942
ORGANIZER;CN=TUSCARAWAS CENTRAL CATHOLIC:MAILTO:mng@presteligence.com
DTSTART:20090926T133000
DTEND:20090926T133000
LOCATION:
SUMMARY:TUSCARAWAS CENTRAL CATHOLIC vs Strasburg Tigers
DESCRIPTION:
STATUS:
END:VEVENT
END:VCALENDAR
