BEGIN:VCALENDAR
VERSION:2.0
PRODID:-//PRESTELIGENCE//v1.15.0.37344//EN
METHOD:REQUEST
BEGIN:VEVENT
UID:AssignmentId49960@presteligence.com
SEQUENCE:2
DTSTAMP:20260424T140840
ORGANIZER;CN=TUSCARAWAS CENTRAL CATHOLIC:MAILTO:mng@presteligence.com
DTSTART:20091009T190000
DTEND:20091009T190000
LOCATION:
SUMMARY:TUSCARAWAS CENTRAL CATHOLIC vs Sandy Valley Cardinals
DESCRIPTION:
STATUS:
END:VEVENT
END:VCALENDAR
