BEGIN:VCALENDAR
VERSION:2.0
PRODID:-//PRESTELIGENCE//v1.15.0.40397//EN
METHOD:REQUEST
BEGIN:VEVENT
UID:AssignmentId59537@presteligence.com
SEQUENCE:1
DTSTAMP:20260421T100349
ORGANIZER;CN=ALLIANCE:MAILTO:mng@presteligence.com
DTSTART:20131126T170000
DTEND:20131126T170000
LOCATION:Alliance YMCA, Union Street, Alliance, OH 44601
SUMMARY:ALLIANCE vs POLAND SEMINARY
DESCRIPTION:
STATUS:
END:VEVENT
END:VCALENDAR
