BEGIN:VCALENDAR
VERSION:2.0
PRODID:-//PRESTELIGENCE//v1.15.0.40397//EN
METHOD:REQUEST
BEGIN:VEVENT
UID:AssignmentId59544@presteligence.com
SEQUENCE:1
DTSTAMP:20260421T101338
ORGANIZER;CN=ALLIANCE:MAILTO:mng@presteligence.com
DTSTART:20140109T170000
DTEND:20140109T170000
LOCATION:CT Branin Natatorium, 1715 Harrison Ave NW, CANTON, OH 44708
SUMMARY:ALLIANCE vs ALLIANCE/ORRVILLE
DESCRIPTION:
STATUS:
END:VEVENT
END:VCALENDAR
