BEGIN:VCALENDAR
VERSION:2.0
PRODID:-//PRESTELIGENCE//v1.15.0.40397//EN
METHOD:REQUEST
BEGIN:VEVENT
UID:AssignmentId60233@presteligence.com
SEQUENCE:1
DTSTAMP:20260421T101318
ORGANIZER;CN=CARROLLTON:MAILTO:mng@presteligence.com
DTSTART:20131214T100000
DTEND:20131214T100000
LOCATION:Coshocton H.S. Pool, 1205 Cambridge Rd., Coshocton, OH 43812
SUMMARY:CARROLLTON vs RV SWIM INVITE
DESCRIPTION:
STATUS:
END:VEVENT
END:VCALENDAR
