BEGIN:VCALENDAR
VERSION:2.0
PRODID:-//PRESTELIGENCE//v1.15.0.40397//EN
METHOD:REQUEST
BEGIN:VEVENT
UID:AssignmentId60603@presteligence.com
SEQUENCE:1
DTSTAMP:20260421T074613
ORGANIZER;CN=LOUISVILLE:MAILTO:mng@presteligence.com
DTSTART:20140117T170000
DTEND:20140117T170000
LOCATION:Alliance YMCA, Union Street, Alliance, OH 44601
SUMMARY:LOUISVILLE vs NBC LEAGUE MEET
DESCRIPTION:
STATUS:
END:VEVENT
END:VCALENDAR
