BEGIN:VCALENDAR
VERSION:2.0
PRODID:-//PRESTELIGENCE//v1.15.0.40397//EN
METHOD:REQUEST
BEGIN:VEVENT
UID:AssignmentId65639@presteligence.com
SEQUENCE:1
DTSTAMP:20260421T075000
ORGANIZER;CN=COSHOCTON:MAILTO:mng@presteligence.com
DTSTART:20131210T180000
DTEND:20131210T180000
LOCATION:Coshocton High School, 1205 Cambridge Rd, Coshocton, OH 43812
SUMMARY:COSHOCTON vs TRI-MEET-NORTHRIDGE/NEWARK
DESCRIPTION:
STATUS:
END:VEVENT
END:VCALENDAR
