BEGIN:VCALENDAR
VERSION:2.0
PRODID:-//PRESTELIGENCE//v1.15.0.40397//EN
METHOD:REQUEST
BEGIN:VEVENT
UID:AssignmentId65645@presteligence.com
SEQUENCE:1
DTSTAMP:20260421T074915
ORGANIZER;CN=COSHOCTON:MAILTO:mng@presteligence.com
DTSTART:20140111T100000
DTEND:20140111T100000
LOCATION:Coshocton High School, 1205 Cambridge Rd, Coshocton, OH 43812
SUMMARY:COSHOCTON vs COSHOCTON INVITATIONAL
DESCRIPTION:
STATUS:
END:VEVENT
END:VCALENDAR
