BEGIN:VCALENDAR
VERSION:2.0
PRODID:-//PRESTELIGENCE//v1.15.0.40397//EN
METHOD:REQUEST
BEGIN:VEVENT
UID:AssignmentId66397@presteligence.com
SEQUENCE:1
DTSTAMP:20260421T073013
ORGANIZER;CN=MARIETTA:MAILTO:mng@presteligence.com
DTSTART:20140120T120000
DTEND:20140120T120000
LOCATION:Warm ups will begin at 11:00 AM
SUMMARY:MARIETTA vs MARIETTA MLK SWIM INVITATIONAL
DESCRIPTION:
STATUS:
END:VEVENT
END:VCALENDAR
