BEGIN:VCALENDAR
VERSION:2.0
PRODID:-//PRESTELIGENCE//v1.15.0.40397//EN
METHOD:REQUEST
BEGIN:VEVENT
UID:AssignmentId67271@presteligence.com
SEQUENCE:1
DTSTAMP:20260421T112530
ORGANIZER;CN=RIVER VIEW:MAILTO:mng@presteligence.com
DTSTART:20131207T133000
DTEND:20131207T133000
LOCATION:Tuscarawas County YMCA, 600 Monroe St, Dover, OH 44622
SUMMARY:RIVER VIEW vs 13TH ANNUAL DOVER SWIM INVITE
DESCRIPTION:
STATUS:
END:VEVENT
END:VCALENDAR
