BEGIN:VCALENDAR
VERSION:2.0
PRODID:-//PRESTELIGENCE//v1.15.0.40397//EN
METHOD:REQUEST
BEGIN:VEVENT
UID:AssignmentId67581@presteligence.com
SEQUENCE:1
DTSTAMP:20260421T080408
ORGANIZER;CN=ZANESVILLE:MAILTO:mng@presteligence.com
DTSTART:20140107T180000
DTEND:20140107T180000
LOCATION:Coshocton High School, 1205 Cambridge Rd, Coshocton, OH 43812
SUMMARY:ZANESVILLE vs TRI-MEET JG/ZHS/CHS
DESCRIPTION:
STATUS:
END:VEVENT
END:VCALENDAR
