BEGIN:VCALENDAR
VERSION:2.0
PRODID:-//PRESTELIGENCE//v1.15.0.40397//EN
METHOD:REQUEST
BEGIN:VEVENT
UID:AssignmentId73497@presteligence.com
SEQUENCE:1
DTSTAMP:20260421T125349
ORGANIZER;CN=COPLEY:MAILTO:mng@presteligence.com
DTSTART:20131228T140000
DTEND:20131228T140000
LOCATION:University of Akron Ocasek Natatorium, 402 Carroll St., Akron, OH 44325
SUMMARY:COPLEY vs WALSH JESUIT SWIMMING AND DIVING INVITATIONAL
DESCRIPTION:
STATUS:
END:VEVENT
END:VCALENDAR
