BEGIN:VCALENDAR
VERSION:2.0
PRODID:-//PRESTELIGENCE//v1.15.0.40397//EN
METHOD:REQUEST
BEGIN:VEVENT
UID:AssignmentId77759@presteligence.com
SEQUENCE:1
DTSTAMP:20260421T100355
ORGANIZER;CN=CENTRAL CATHOLIC:MAILTO:mng@presteligence.com
DTSTART:20131202T170000
DTEND:20131202T170000
LOCATION:CYC, 133 N. Park Ave. N.W., canton, OH 44708
SUMMARY:CENTRAL CATHOLIC vs SWIMMING TRI MEET
DESCRIPTION:
STATUS:
END:VEVENT
END:VCALENDAR
