BEGIN:VCALENDAR
VERSION:2.0
PRODID:-//PRESTELIGENCE//v1.15.0.40397//EN
METHOD:REQUEST
BEGIN:VEVENT
UID:AssignmentId78203@presteligence.com
SEQUENCE:1
DTSTAMP:20260421T125355
ORGANIZER;CN=MASSILLON:MAILTO:mng@presteligence.com
DTSTART:20131213T173000
DTEND:20131213T173000
LOCATION:Ellen Shapiro Natatorium, 515 Oldman Road, Wooster, OH 44691
SUMMARY:MASSILLON vs TRI MEET WITH KENT ROOSEVELT AND MASSILLON
DESCRIPTION:
STATUS:
END:VEVENT
END:VCALENDAR
