BEGIN:VCALENDAR
VERSION:2.0
PRODID:-//PRESTELIGENCE//v1.15.0.40397//EN
METHOD:REQUEST
BEGIN:VEVENT
UID:AssignmentId78204@presteligence.com
SEQUENCE:1
DTSTAMP:20260421T125356
ORGANIZER;CN=MASSILLON:MAILTO:mng@presteligence.com
DTSTART:20131220T170000
DTEND:20131220T170000
LOCATION:YSU/Beeghly Center, 1 University Plaza, Youngstown, OH 44502
SUMMARY:MASSILLON vs GLEN OAK & WASHINGTON @ CANFIELD TRI-MEET
DESCRIPTION:
STATUS:
END:VEVENT
END:VCALENDAR
