BEGIN:VCALENDAR
VERSION:2.0
PRODID:-//PRESTELIGENCE//v1.15.0.40397//EN
METHOD:REQUEST
BEGIN:VEVENT
UID:AssignmentId78205@presteligence.com
SEQUENCE:1
DTSTAMP:20260421T125658
ORGANIZER;CN=MASSILLON:MAILTO:mng@presteligence.com
DTSTART:20131228T130000
DTEND:20131228T130000
LOCATION:TBA
SUMMARY:MASSILLON vs NEAC QUAD 2
DESCRIPTION:
STATUS:
END:VEVENT
END:VCALENDAR
