BEGIN:VCALENDAR
VERSION:2.0
PRODID:-//PRESTELIGENCE//v1.15.0.40397//EN
METHOD:REQUEST
BEGIN:VEVENT
UID:AssignmentId78207@presteligence.com
SEQUENCE:1
DTSTAMP:20260421T125458
ORGANIZER;CN=MASSILLON:MAILTO:mng@presteligence.com
DTSTART:20140125T120000
DTEND:20140125T120000
LOCATION:Massillon Natatorium, 207 Oak St.  S. E., Massillon, OH 44646
SUMMARY:MASSILLON vs TRI-MEET; LOUISVILLE, C.V.C.A. MASSILLON
DESCRIPTION:
STATUS:
END:VEVENT
END:VCALENDAR
