BEGIN:VCALENDAR
VERSION:2.0
PRODID:-//PRESTELIGENCE//v1.15.0.40397//EN
METHOD:REQUEST
BEGIN:VEVENT
UID:AssignmentId78775@presteligence.com
SEQUENCE:1
DTSTAMP:20260421T102433
ORGANIZER;CN=ST- THOMAS AQUINAS:MAILTO:mng@presteligence.com
DTSTART:20140108T170000
DTEND:20140108T170000
LOCATION:CYC, 133 N. Park Ave. N.W., canton, OH 44708
SUMMARY:ST- THOMAS AQUINAS vs SWIM TRI MEET
DESCRIPTION:
STATUS:
END:VEVENT
END:VCALENDAR
