BEGIN:VCALENDAR
VERSION:2.0
PRODID:-//PRESTELIGENCE//v1.15.0.40397//EN
METHOD:REQUEST
BEGIN:VEVENT
UID:AssignmentId78776@presteligence.com
SEQUENCE:1
DTSTAMP:20260421T102845
ORGANIZER;CN=ST- THOMAS AQUINAS:MAILTO:mng@presteligence.com
DTSTART:20140122T180000
DTEND:20140122T180000
LOCATION:Tuscarawas County YMCA, 600 Monroe St, Dover, OH 44622
SUMMARY:ST- THOMAS AQUINAS vs TRIANGULAR
DESCRIPTION:
STATUS:
END:VEVENT
END:VCALENDAR
